{
 "currentVersion": 11.2,
 "serviceDescription": "Kauffman_Creek_11_03_2023",
 "name": "Kauffman_Creek_11_03_2023",
 "description": "",
 "extent": {
  "xmin": 2838966.93704,
  "ymin": 1341103.5160100001,
  "xmax": 2842261.54862,
  "ymax": 1342380.3815000001,
  "spatialReference": {
   "wkid": 102653,
   "latestWkid": 2231
  }
 },
 "initialExtent": {
  "xmin": 2838966.93704,
  "ymin": 1341103.5160100001,
  "xmax": 2842261.54862,
  "ymax": 1342380.3815000001,
  "spatialReference": {
   "wkid": 102653,
   "latestWkid": 2231
  }
 },
 "fullExtent": {
  "xmin": 2838966.93704,
  "ymin": 1341103.5160100001,
  "xmax": 2842261.54862,
  "ymax": 1342380.3815000001,
  "spatialReference": {
   "wkid": 102653,
   "latestWkid": 2231
  }
 },
 "sortableFields": "",
 "bandCount": 4,
 "pixelType": "U8",
 "minValues": [
  0,
  0,
  0,
  0
 ],
 "maxValues": [
  243,
  243,
  249,
  255
 ],
 "meanValues": [
  41.445103292762,
  42.535363537115,
  42.186168663103,
  111.82964819932
 ],
 "stdvValues": [
  57.628649684905,
  60.759549516695,
  62.414356320373,
  126.5333556089
 ],
 "hasMultidimensions": false,
 "pixelSizeX": 0.04352999999999727,
 "pixelSizeY": 0.04352999999999988,
 "meanPixelSize": 0.01326797053594064,
 "datasetFormat": "TIFF",
 "uncompressedSize": 8880389752,
 "blockWidth": 75686,
 "blockHeight": 1,
 "compressionType": "LZW",
 "bandNames": [
  "Band_1",
  "Band_2",
  "Band_3",
  "Band_4"
 ],
 "allowCopy": true,
 "allowAnalysis": true,
 "itemAccess": false,
 "inspectionCapabilities": "",
 "noDataValue": 0,
 "noDataValues": [
  0,
  0,
  0,
  0
 ],
 "minPixelSize": 0,
 "maxPixelSize": 0,
 "copyrightText": "",
 "serviceDataType": "esriImageServiceDataTypeGeneric",
 "serviceSourceType": "esriImageServiceSourceTypeDataset",
 "objectIdField": "",
 "fields": [],
 "capabilities": "Image,Metadata,Mensuration",
 "defaultMosaicMethod": "Center",
 "allowedMosaicMethods": "",
 "sortField": "",
 "sortValue": null,
 "sortAscending": true,
 "mosaicOperator": "First",
 "defaultCompressionQuality": 75,
 "defaultResamplingMethod": "Bilinear",
 "maxImageHeight": 4100,
 "maxImageWidth": 15000,
 "allowRasterFunction": true,
 "rasterFunctionInfos": [
  {
   "name": "None",
   "description": "",
   "help": ""
  }
 ],
 "rasterTypeInfos": [
  {
   "name": "Raster Dataset",
   "description": "Supports all ArcGIS Raster Datasets",
   "help": ""
  }
 ],
 "mensurationCapabilities": "Basic",
 "hasHistograms": true,
 "hasColormap": false,
 "hasRasterAttributeTable": false,
 "minScale": 0,
 "maxScale": 0,
 "exportTilesAllowed": false,
 "supportsStatistics": false,
 "supportsAdvancedQueries": false,
 "editFieldsInfo": null,
 "ownershipBasedAccessControlForRasters": null,
 "allowComputeTiePoints": false,
 "useStandardizedQueries": true,
 "advancedQueryCapabilities": {
  "useStandardizedQueries": true,
  "supportsStatistics": false,
  "supportsOrderBy": false,
  "supportsDistinct": false,
  "supportsPagination": false
 },
 "spatialReference": {
  "wkid": 102653,
  "latestWkid": 2231
 }
}
