{
 "currentVersion": 11.2,
 "serviceDescription": "Kauffman_Creek_Aerial_2025_09_19",
 "name": "Kauffman_Creek_Aerial_2025_09_19",
 "description": "",
 "extent": {
  "xmin": 408411.9575629178,
  "ymin": 4458063.5222388115,
  "xmax": 409432.90833871136,
  "ymax": 4458498.673628714,
  "spatialReference": {
   "wkid": 26913,
   "latestWkid": 26913
  }
 },
 "initialExtent": {
  "xmin": 408411.9575629178,
  "ymin": 4458063.5222388115,
  "xmax": 409432.90833871136,
  "ymax": 4458498.673628714,
  "spatialReference": {
   "wkid": 26913,
   "latestWkid": 26913
  }
 },
 "fullExtent": {
  "xmin": 408411.9575629178,
  "ymin": 4458063.5222388115,
  "xmax": 409432.90833871136,
  "ymax": 4458498.673628714,
  "spatialReference": {
   "wkid": 26913,
   "latestWkid": 26913
  }
 },
 "sortableFields": "",
 "bandCount": 4,
 "pixelType": "U8",
 "minValues": [
  1,
  1,
  1,
  255
 ],
 "maxValues": [
  255,
  255,
  255,
  255
 ],
 "meanValues": [
  166.36018613193,
  163.63818522467,
  160.57009000703,
  255
 ],
 "stdvValues": [
  46.003965952965,
  46.356971580505,
  45.341947679406,
  0
 ],
 "hasMultidimensions": false,
 "pixelSizeX": 0.013097676375496529,
 "pixelSizeY": 0.013389273535460234,
 "meanPixelSize": 0.013243474955478382,
 "datasetFormat": "TIFF",
 "uncompressedSize": 10133370000,
 "blockWidth": 128,
 "blockHeight": 128,
 "compressionType": "None",
 "bandNames": [
  "Band_1",
  "Band_2",
  "Band_3",
  "Band_4"
 ],
 "allowCopy": true,
 "allowAnalysis": true,
 "itemAccess": false,
 "inspectionCapabilities": "",
 "noDataValue": 0,
 "noDataValues": [
  0,
  0,
  0,
  0
 ],
 "minPixelSize": 0,
 "maxPixelSize": 0,
 "copyrightText": "",
 "serviceDataType": "esriImageServiceDataTypeGeneric",
 "serviceSourceType": "esriImageServiceSourceTypeDataset",
 "objectIdField": "",
 "fields": [],
 "capabilities": "Image,Metadata,Mensuration",
 "defaultMosaicMethod": "Center",
 "allowedMosaicMethods": "",
 "sortField": "",
 "sortValue": null,
 "sortAscending": true,
 "mosaicOperator": "First",
 "defaultCompressionQuality": 75,
 "defaultResamplingMethod": "Bilinear",
 "maxImageHeight": 4100,
 "maxImageWidth": 15000,
 "allowRasterFunction": true,
 "rasterFunctionInfos": [
  {
   "name": "None",
   "description": "",
   "help": ""
  }
 ],
 "rasterTypeInfos": [
  {
   "name": "Raster Dataset",
   "description": "Supports all ArcGIS Raster Datasets",
   "help": ""
  }
 ],
 "mensurationCapabilities": "Basic",
 "hasHistograms": true,
 "hasColormap": false,
 "hasRasterAttributeTable": false,
 "minScale": 0,
 "maxScale": 0,
 "exportTilesAllowed": false,
 "supportsStatistics": false,
 "supportsAdvancedQueries": false,
 "editFieldsInfo": null,
 "ownershipBasedAccessControlForRasters": null,
 "allowComputeTiePoints": false,
 "useStandardizedQueries": true,
 "advancedQueryCapabilities": {
  "useStandardizedQueries": true,
  "supportsStatistics": false,
  "supportsOrderBy": false,
  "supportsDistinct": false,
  "supportsPagination": false
 },
 "spatialReference": {
  "wkid": 26913,
  "latestWkid": 26913
 }
}
