{
 "currentVersion": 11.2,
 "serviceDescription": "Nellis_Buildable_Heights",
 "name": "Nellis_Buildable_Heights",
 "description": "",
 "extent": {
  "xmin": 572728.5052108802,
  "ymin": 2.6739429410635248E7,
  "xmax": 866259.3063579202,
  "ymax": 2.696428017372285E7,
  "spatialReference": {
   "wkid": 102707,
   "latestWkid": 3421
  }
 },
 "initialExtent": {
  "xmin": 572728.5052108802,
  "ymin": 2.6739429410635248E7,
  "xmax": 866259.3063579202,
  "ymax": 2.696428017372285E7,
  "spatialReference": {
   "wkid": 102707,
   "latestWkid": 3421
  }
 },
 "fullExtent": {
  "xmin": 572728.5052108802,
  "ymin": 2.6739429410635248E7,
  "xmax": 866259.3063579202,
  "ymax": 2.696428017372285E7,
  "spatialReference": {
   "wkid": 102707,
   "latestWkid": 3421
  }
 },
 "sortableFields": "",
 "bandCount": 1,
 "pixelType": "F32",
 "minValues": [
  -1877
 ],
 "maxValues": [
  837
 ],
 "meanValues": [
  78.449389608156
 ],
 "stdvValues": [
  456.99667220728
 ],
 "hasMultidimensions": false,
 "pixelSizeX": 30.242200818776013,
 "pixelSizeY": 30.242200818776123,
 "meanPixelSize": 9.217841245245438,
 "datasetFormat": "TIFF",
 "uncompressedSize": 288656440,
 "blockWidth": 128,
 "blockHeight": 128,
 "compressionType": "LZW",
 "bandNames": [
  "Band_1"
 ],
 "allowCopy": true,
 "allowAnalysis": true,
 "itemAccess": false,
 "inspectionCapabilities": "",
 "noDataValue": 2147483648,
 "noDataValues": [
  2147483648
 ],
 "minPixelSize": 0,
 "maxPixelSize": 0,
 "copyrightText": "",
 "serviceDataType": "esriImageServiceDataTypeGeneric",
 "serviceSourceType": "esriImageServiceSourceTypeDataset",
 "objectIdField": "",
 "fields": [],
 "capabilities": "Mensuration,Image,Metadata",
 "defaultMosaicMethod": "Center",
 "allowedMosaicMethods": "",
 "sortField": "",
 "sortValue": null,
 "sortAscending": true,
 "mosaicOperator": "First",
 "defaultCompressionQuality": 75,
 "defaultResamplingMethod": "Bilinear",
 "maxImageHeight": 4100,
 "maxImageWidth": 15000,
 "singleFusedMapCache": true,
 "tileInfo": {
  "rows": 256,
  "cols": 256,
  "dpi": 96,
  "format": "MIXED",
  "compressionQuality": 75,
  "origin": {
   "x": -17790500,
   "y": 4.643889999999999E7
  },
  "spatialReference": {
   "wkid": 102707,
   "latestWkid": 3421
  },
  "lods": [
   {
    "level": 0,
    "resolution": 868.0555555555555,
    "scale": 1000000
   },
   {
    "level": 1,
    "resolution": 434.02777777777777,
    "scale": 500000
   },
   {
    "level": 2,
    "resolution": 217.01388888888889,
    "scale": 250000
   },
   {
    "level": 3,
    "resolution": 108.50694444444444,
    "scale": 125000
   },
   {
    "level": 4,
    "resolution": 55.55555555555555,
    "scale": 64000
   }
  ]
 },
 "storageInfo": {
  "storageFormat": "esriMapCacheStorageModeCompactV2",
  "packetSize": 128
 },
 "cacheType": "Map",
 "allowRasterFunction": true,
 "rasterFunctionInfos": [
  {
   "name": "None",
   "description": "",
   "help": ""
  }
 ],
 "rasterTypeInfos": [
  {
   "name": "Raster Dataset",
   "description": "Supports all ArcGIS Raster Datasets",
   "help": ""
  }
 ],
 "mensurationCapabilities": "Basic",
 "hasHistograms": true,
 "hasColormap": false,
 "hasRasterAttributeTable": false,
 "minScale": 0,
 "maxScale": 0,
 "exportTilesAllowed": false,
 "supportsStatistics": false,
 "supportsAdvancedQueries": false,
 "editFieldsInfo": null,
 "ownershipBasedAccessControlForRasters": null,
 "allowComputeTiePoints": false,
 "useStandardizedQueries": true,
 "advancedQueryCapabilities": {
  "useStandardizedQueries": true,
  "supportsStatistics": false,
  "supportsOrderBy": false,
  "supportsDistinct": false,
  "supportsPagination": false
 },
 "spatialReference": {
  "wkid": 102707,
  "latestWkid": 3421
 },
 "resampling": false
}
