{
 "currentVersion": 11.2,
 "serviceDescription": "This raster represents the buildable height limits for the area around Redstone Arsenal in Alabama. It is derived from the imaginary surfaces for the airfield at Redstone Arsenal and accounts for the ground elevation. So the values represent the height, in feet, above ground level, that a structure could be built before it would intrude into the imaginary surfaces. \n\nSource ground elevation comes from USGS and is at 10 meter resolution. The imaginary surfaces were modeled in 1 foot contours and converted to a raster with 10 foot x 10 foot cells, and then the ground elevations were removed. \n\nNote that Redstone Arsenal also has an imaginary surface called an EMOS, which this raster layer does not reflect, as the data was not provided to us at the time of creation. This layer is intended to be updated and replaced at a later date when that data is provided.",
 "name": "Redstone_Buildable_NoEMOS",
 "description": "This raster represents the buildable height limits for the area around Redstone Arsenal in Alabama. It is derived from the imaginary surfaces for the airfield at Redstone Arsenal and accounts for the ground elevation. So the values represent the height, in feet, above ground level, that a structure could be built before it would intrude into the imaginary surfaces. \n\nSource ground elevation comes from USGS and is at 10 meter resolution. The imaginary surfaces were modeled in 1 foot contours and converted to a raster with 10 foot x 10 foot cells, and then the ground elevations were removed. \n\nNote that Redstone Arsenal also has an imaginary surface called an EMOS, which this raster layer does not reflect, as the data was not provided to us at the time of creation. This layer is intended to be updated and replaced at a later date when that data is provided.",
 "extent": {
  "xmin": 355011.42285507545,
  "ymin": 1466898.5412000045,
  "xmax": 445321.42285507545,
  "ymax": 1575778.5412000045,
  "spatialReference": {
   "wkid": 102629,
   "latestWkid": 102629
  }
 },
 "initialExtent": {
  "xmin": 355011.42285507545,
  "ymin": 1466898.5412000045,
  "xmax": 445321.42285507545,
  "ymax": 1575778.5412000045,
  "spatialReference": {
   "wkid": 102629,
   "latestWkid": 102629
  }
 },
 "fullExtent": {
  "xmin": 355011.42285507545,
  "ymin": 1466898.5412000045,
  "xmax": 445321.42285507545,
  "ymax": 1575778.5412000045,
  "spatialReference": {
   "wkid": 102629,
   "latestWkid": 102629
  }
 },
 "sortableFields": "",
 "bandCount": 1,
 "pixelType": "S16",
 "minValues": [
  -252
 ],
 "maxValues": [
  623
 ],
 "meanValues": [
  488.77986607071
 ],
 "stdvValues": [
  125.87000241114
 ],
 "hasMultidimensions": false,
 "pixelSizeX": 10,
 "pixelSizeY": 10,
 "meanPixelSize": 3.0480060960121924,
 "datasetFormat": "TIFF",
 "uncompressedSize": 196659056,
 "blockWidth": 128,
 "blockHeight": 128,
 "compressionType": "LZW",
 "bandNames": [
  "Limit_noEMOS"
 ],
 "allowCopy": true,
 "allowAnalysis": true,
 "itemAccess": false,
 "inspectionCapabilities": "",
 "noDataValue": -32768,
 "noDataValues": [
  -32768
 ],
 "minPixelSize": 0,
 "maxPixelSize": 0,
 "copyrightText": "",
 "serviceDataType": "esriImageServiceDataTypeGeneric",
 "serviceSourceType": "esriImageServiceSourceTypeDataset",
 "objectIdField": "",
 "fields": [],
 "capabilities": "Image,Metadata,Mensuration",
 "defaultMosaicMethod": "Center",
 "allowedMosaicMethods": "",
 "sortField": "",
 "sortValue": null,
 "sortAscending": true,
 "mosaicOperator": "First",
 "defaultCompressionQuality": 75,
 "defaultResamplingMethod": "Bilinear",
 "maxImageHeight": 4100,
 "maxImageWidth": 15000,
 "allowRasterFunction": true,
 "rasterFunctionInfos": [
  {
   "name": "None",
   "description": "",
   "help": ""
  }
 ],
 "rasterTypeInfos": [
  {
   "name": "Raster Dataset",
   "description": "Supports all ArcGIS Raster Datasets",
   "help": ""
  }
 ],
 "mensurationCapabilities": "Basic",
 "hasHistograms": true,
 "hasColormap": false,
 "hasRasterAttributeTable": true,
 "minScale": 0,
 "maxScale": 0,
 "exportTilesAllowed": false,
 "supportsStatistics": false,
 "supportsAdvancedQueries": false,
 "editFieldsInfo": null,
 "ownershipBasedAccessControlForRasters": null,
 "allowComputeTiePoints": false,
 "useStandardizedQueries": true,
 "advancedQueryCapabilities": {
  "useStandardizedQueries": true,
  "supportsStatistics": false,
  "supportsOrderBy": false,
  "supportsDistinct": false,
  "supportsPagination": false
 },
 "spatialReference": {
  "wkid": 102629,
  "latestWkid": 102629
 }
}
