{
 "currentVersion": 11.2,
 "serviceDescription": "Stillwater1_Aerial_2023_09_07",
 "name": "Stillwater1_Aerial_2023_09_07",
 "description": "",
 "extent": {
  "xmin": 421895.1357173487,
  "ymin": 4452447.951460539,
  "xmax": 423142.05581295677,
  "ymax": 4453779.6635082215,
  "spatialReference": {
   "wkid": 26913,
   "latestWkid": 26913
  }
 },
 "initialExtent": {
  "xmin": 421895.1357173487,
  "ymin": 4452447.951460539,
  "xmax": 423142.05581295677,
  "ymax": 4453779.6635082215,
  "spatialReference": {
   "wkid": 26913,
   "latestWkid": 26913
  }
 },
 "fullExtent": {
  "xmin": 421895.1357173487,
  "ymin": 4452447.951460539,
  "xmax": 423142.05581295677,
  "ymax": 4453779.6635082215,
  "spatialReference": {
   "wkid": 26913,
   "latestWkid": 26913
  }
 },
 "sortableFields": "",
 "bandCount": 4,
 "pixelType": "U8",
 "minValues": [
  1,
  1,
  1,
  255
 ],
 "maxValues": [
  255,
  255,
  255,
  255
 ],
 "meanValues": [
  157.62403969779,
  158.1431477218,
  145.72566229898,
  255
 ],
 "stdvValues": [
  46.144144178516,
  45.63503381289,
  50.021355516487,
  0
 ],
 "hasMultidimensions": false,
 "pixelSizeX": 0.014037150687921263,
 "pixelSizeY": 0.01401610356142995,
 "meanPixelSize": 0.014026627124675606,
 "datasetFormat": "TIFF",
 "uncompressedSize": 33760019160,
 "blockWidth": 128,
 "blockHeight": 128,
 "compressionType": "None",
 "bandNames": [
  "Band_1",
  "Band_2",
  "Band_3",
  "Band_4"
 ],
 "allowCopy": true,
 "allowAnalysis": true,
 "itemAccess": false,
 "inspectionCapabilities": "",
 "noDataValue": 0,
 "noDataValues": [
  0,
  0,
  0,
  0
 ],
 "minPixelSize": 0,
 "maxPixelSize": 0,
 "copyrightText": "",
 "serviceDataType": "esriImageServiceDataTypeGeneric",
 "serviceSourceType": "esriImageServiceSourceTypeDataset",
 "objectIdField": "",
 "fields": [],
 "capabilities": "Image,Metadata,Mensuration",
 "defaultMosaicMethod": "Center",
 "allowedMosaicMethods": "",
 "sortField": "",
 "sortValue": null,
 "sortAscending": true,
 "mosaicOperator": "First",
 "defaultCompressionQuality": 75,
 "defaultResamplingMethod": "Bilinear",
 "maxImageHeight": 4100,
 "maxImageWidth": 15000,
 "allowRasterFunction": true,
 "rasterFunctionInfos": [
  {
   "name": "None",
   "description": "",
   "help": ""
  }
 ],
 "rasterTypeInfos": [
  {
   "name": "Raster Dataset",
   "description": "Supports all ArcGIS Raster Datasets",
   "help": ""
  }
 ],
 "mensurationCapabilities": "Basic",
 "hasHistograms": true,
 "hasColormap": false,
 "hasRasterAttributeTable": false,
 "minScale": 0,
 "maxScale": 0,
 "exportTilesAllowed": false,
 "supportsStatistics": false,
 "supportsAdvancedQueries": false,
 "editFieldsInfo": null,
 "ownershipBasedAccessControlForRasters": null,
 "allowComputeTiePoints": false,
 "useStandardizedQueries": true,
 "advancedQueryCapabilities": {
  "useStandardizedQueries": true,
  "supportsStatistics": false,
  "supportsOrderBy": false,
  "supportsDistinct": false,
  "supportsPagination": false
 },
 "spatialReference": {
  "wkid": 26913,
  "latestWkid": 26913
 }
}
