{
 "currentVersion": 11.2,
 "serviceDescription": "Stillwater_Creek1_09_07_2023",
 "name": "Stillwater_Creek1_09_07_2023",
 "description": "",
 "extent": {
  "xmin": 421907.97001000005,
  "ymin": 4452463.25658,
  "xmax": 423125.31217000005,
  "ymax": 4453767.34172,
  "spatialReference": {
   "wkid": 32613,
   "latestWkid": 32613
  }
 },
 "initialExtent": {
  "xmin": 421907.97001000005,
  "ymin": 4452463.25658,
  "xmax": 423125.31217000005,
  "ymax": 4453767.34172,
  "spatialReference": {
   "wkid": 32613,
   "latestWkid": 32613
  }
 },
 "fullExtent": {
  "xmin": 421907.97001000005,
  "ymin": 4452463.25658,
  "xmax": 423125.31217000005,
  "ymax": 4453767.34172,
  "spatialReference": {
   "wkid": 32613,
   "latestWkid": 32613
  }
 },
 "sortableFields": "",
 "bandCount": 4,
 "pixelType": "U8",
 "minValues": [
  0,
  0,
  0,
  0
 ],
 "maxValues": [
  255,
  255,
  255,
  255
 ],
 "meanValues": [
  23.559525374695,
  23.131695173021,
  19.745001436656,
  58.825389982168
 ],
 "stdvValues": [
  48.354429070556,
  47.370710455953,
  42.286139494648,
  107.42461515067
 ],
 "hasMultidimensions": false,
 "pixelSizeX": 0.013870000000000002,
 "pixelSizeY": 0.013870000000001036,
 "meanPixelSize": 0.013870000000000519,
 "datasetFormat": "TIFF",
 "uncompressedSize": 33008491584,
 "blockWidth": 87768,
 "blockHeight": 1,
 "compressionType": "LZW",
 "bandNames": [
  "Band_1",
  "Band_2",
  "Band_3",
  "Band_4"
 ],
 "allowCopy": true,
 "allowAnalysis": true,
 "itemAccess": false,
 "inspectionCapabilities": "",
 "noDataValue": 0,
 "noDataValues": [
  0,
  0,
  0,
  0
 ],
 "minPixelSize": 0,
 "maxPixelSize": 0,
 "copyrightText": "",
 "serviceDataType": "esriImageServiceDataTypeGeneric",
 "serviceSourceType": "esriImageServiceSourceTypeDataset",
 "objectIdField": "",
 "fields": [],
 "capabilities": "Image,Metadata,Mensuration",
 "defaultMosaicMethod": "Center",
 "allowedMosaicMethods": "",
 "sortField": "",
 "sortValue": null,
 "sortAscending": true,
 "mosaicOperator": "First",
 "defaultCompressionQuality": 75,
 "defaultResamplingMethod": "Bilinear",
 "maxImageHeight": 4100,
 "maxImageWidth": 15000,
 "allowRasterFunction": true,
 "rasterFunctionInfos": [
  {
   "name": "None",
   "description": "",
   "help": ""
  }
 ],
 "rasterTypeInfos": [
  {
   "name": "Raster Dataset",
   "description": "Supports all ArcGIS Raster Datasets",
   "help": ""
  }
 ],
 "mensurationCapabilities": "Basic",
 "hasHistograms": true,
 "hasColormap": false,
 "hasRasterAttributeTable": false,
 "minScale": 0,
 "maxScale": 0,
 "exportTilesAllowed": false,
 "supportsStatistics": false,
 "supportsAdvancedQueries": false,
 "editFieldsInfo": null,
 "ownershipBasedAccessControlForRasters": null,
 "allowComputeTiePoints": false,
 "useStandardizedQueries": true,
 "advancedQueryCapabilities": {
  "useStandardizedQueries": true,
  "supportsStatistics": false,
  "supportsOrderBy": false,
  "supportsDistinct": false,
  "supportsPagination": false
 },
 "spatialReference": {
  "wkid": 32613,
  "latestWkid": 32613
 }
}
