{
 "currentVersion": 11.2,
 "serviceDescription": "Stillwater_Creek1_11_03_2023",
 "name": "Stillwater_Creek1_11_03_2023",
 "description": "",
 "extent": {
  "xmin": 2883291.44015,
  "ymin": 1322897.97031,
  "xmax": 2887319.5819800003,
  "ymax": 1327146.64164,
  "spatialReference": {
   "wkid": 102653,
   "latestWkid": 2231
  }
 },
 "initialExtent": {
  "xmin": 2883291.44015,
  "ymin": 1322897.97031,
  "xmax": 2887319.5819800003,
  "ymax": 1327146.64164,
  "spatialReference": {
   "wkid": 102653,
   "latestWkid": 2231
  }
 },
 "fullExtent": {
  "xmin": 2883291.44015,
  "ymin": 1322897.97031,
  "xmax": 2887319.5819800003,
  "ymax": 1327146.64164,
  "spatialReference": {
   "wkid": 102653,
   "latestWkid": 2231
  }
 },
 "sortableFields": "",
 "bandCount": 4,
 "pixelType": "U8",
 "minValues": [
  0,
  0,
  0,
  0
 ],
 "maxValues": [
  255,
  255,
  255,
  255
 ],
 "meanValues": [
  21.041616617203,
  20.481891873152,
  18.768030583207,
  59.661718216941
 ],
 "stdvValues": [
  44.741413464194,
  44.614058589384,
  42.760279853062,
  107.95470126692
 ],
 "hasMultidimensions": false,
 "pixelSizeX": 0.04547000000000107,
 "pixelSizeY": 0.04547000000000044,
 "meanPixelSize": 0.01385928371856767,
 "datasetFormat": "TIFF",
 "uncompressedSize": 33110670284,
 "blockWidth": 88589,
 "blockHeight": 1,
 "compressionType": "LZW",
 "bandNames": [
  "Band_1",
  "Band_2",
  "Band_3",
  "Band_4"
 ],
 "allowCopy": true,
 "allowAnalysis": true,
 "itemAccess": false,
 "inspectionCapabilities": "",
 "noDataValue": 0,
 "noDataValues": [
  0,
  0,
  0,
  0
 ],
 "minPixelSize": 0,
 "maxPixelSize": 0,
 "copyrightText": "",
 "serviceDataType": "esriImageServiceDataTypeGeneric",
 "serviceSourceType": "esriImageServiceSourceTypeDataset",
 "objectIdField": "",
 "fields": [],
 "capabilities": "Image,Metadata,Mensuration",
 "defaultMosaicMethod": "Center",
 "allowedMosaicMethods": "",
 "sortField": "",
 "sortValue": null,
 "sortAscending": true,
 "mosaicOperator": "First",
 "defaultCompressionQuality": 75,
 "defaultResamplingMethod": "Bilinear",
 "maxImageHeight": 4100,
 "maxImageWidth": 15000,
 "allowRasterFunction": true,
 "rasterFunctionInfos": [
  {
   "name": "None",
   "description": "",
   "help": ""
  }
 ],
 "rasterTypeInfos": [
  {
   "name": "Raster Dataset",
   "description": "Supports all ArcGIS Raster Datasets",
   "help": ""
  }
 ],
 "mensurationCapabilities": "Basic",
 "hasHistograms": true,
 "hasColormap": false,
 "hasRasterAttributeTable": false,
 "minScale": 0,
 "maxScale": 0,
 "exportTilesAllowed": false,
 "supportsStatistics": false,
 "supportsAdvancedQueries": false,
 "editFieldsInfo": null,
 "ownershipBasedAccessControlForRasters": null,
 "allowComputeTiePoints": false,
 "useStandardizedQueries": true,
 "advancedQueryCapabilities": {
  "useStandardizedQueries": true,
  "supportsStatistics": false,
  "supportsOrderBy": false,
  "supportsDistinct": false,
  "supportsPagination": false
 },
 "spatialReference": {
  "wkid": 102653,
  "latestWkid": 2231
 }
}
