{
 "currentVersion": 11.2,
 "serviceDescription": "Stillwater_Creek2_11_03_2023",
 "name": "Stillwater_Creek2_11_03_2023",
 "description": "",
 "extent": {
  "xmin": 2886315.70415,
  "ymin": 1324628.7093800001,
  "xmax": 2887352.51439,
  "ymax": 1328269.0850600002,
  "spatialReference": {
   "wkid": 102653,
   "latestWkid": 2231
  }
 },
 "initialExtent": {
  "xmin": 2886315.70415,
  "ymin": 1324628.7093800001,
  "xmax": 2887352.51439,
  "ymax": 1328269.0850600002,
  "spatialReference": {
   "wkid": 102653,
   "latestWkid": 2231
  }
 },
 "fullExtent": {
  "xmin": 2886315.70415,
  "ymin": 1324628.7093800001,
  "xmax": 2887352.51439,
  "ymax": 1328269.0850600002,
  "spatialReference": {
   "wkid": 102653,
   "latestWkid": 2231
  }
 },
 "sortableFields": "",
 "bandCount": 4,
 "pixelType": "U8",
 "minValues": [
  0,
  0,
  0,
  0
 ],
 "maxValues": [
  255,
  255,
  255,
  255
 ],
 "meanValues": [
  55.309228165322,
  55.644911660305,
  54.32124375806,
  140.40367651811
 ],
 "stdvValues": [
  58.798273584495,
  59.849377568143,
  59.283354376214,
  126.84535916469
 ],
 "hasMultidimensions": false,
 "pixelSizeX": 0.046720000000000934,
 "pixelSizeY": 0.04672000000000071,
 "meanPixelSize": 0.014240284480569214,
 "datasetFormat": "TIFF",
 "uncompressedSize": 6916713792,
 "blockWidth": 22192,
 "blockHeight": 1,
 "compressionType": "LZW",
 "bandNames": [
  "Band_1",
  "Band_2",
  "Band_3",
  "Band_4"
 ],
 "allowCopy": true,
 "allowAnalysis": true,
 "itemAccess": false,
 "inspectionCapabilities": "",
 "noDataValue": 0,
 "noDataValues": [
  0,
  0,
  0,
  0
 ],
 "minPixelSize": 0,
 "maxPixelSize": 0,
 "copyrightText": "",
 "serviceDataType": "esriImageServiceDataTypeGeneric",
 "serviceSourceType": "esriImageServiceSourceTypeDataset",
 "objectIdField": "",
 "fields": [],
 "capabilities": "Image,Metadata,Mensuration",
 "defaultMosaicMethod": "Center",
 "allowedMosaicMethods": "",
 "sortField": "",
 "sortValue": null,
 "sortAscending": true,
 "mosaicOperator": "First",
 "defaultCompressionQuality": 75,
 "defaultResamplingMethod": "Bilinear",
 "maxImageHeight": 4100,
 "maxImageWidth": 15000,
 "allowRasterFunction": true,
 "rasterFunctionInfos": [
  {
   "name": "None",
   "description": "",
   "help": ""
  }
 ],
 "rasterTypeInfos": [
  {
   "name": "Raster Dataset",
   "description": "Supports all ArcGIS Raster Datasets",
   "help": ""
  }
 ],
 "mensurationCapabilities": "Basic",
 "hasHistograms": true,
 "hasColormap": false,
 "hasRasterAttributeTable": false,
 "minScale": 0,
 "maxScale": 0,
 "exportTilesAllowed": false,
 "supportsStatistics": false,
 "supportsAdvancedQueries": false,
 "editFieldsInfo": null,
 "ownershipBasedAccessControlForRasters": null,
 "allowComputeTiePoints": false,
 "useStandardizedQueries": true,
 "advancedQueryCapabilities": {
  "useStandardizedQueries": true,
  "supportsStatistics": false,
  "supportsOrderBy": false,
  "supportsDistinct": false,
  "supportsPagination": false
 },
 "spatialReference": {
  "wkid": 102653,
  "latestWkid": 2231
 }
}
