{
 "currentVersion": 11.2,
 "serviceDescription": "Stillwater_Creek3_11_03_2023",
 "name": "Stillwater_Creek3_11_03_2023",
 "description": "",
 "extent": {
  "xmin": 2879004.2913800003,
  "ymin": 1324897.1344,
  "xmax": 2880212.4603800005,
  "ymax": 1326329.6764,
  "spatialReference": {
   "wkid": 102653,
   "latestWkid": 2231
  }
 },
 "initialExtent": {
  "xmin": 2879004.2913800003,
  "ymin": 1324897.1344,
  "xmax": 2880212.4603800005,
  "ymax": 1326329.6764,
  "spatialReference": {
   "wkid": 102653,
   "latestWkid": 2231
  }
 },
 "fullExtent": {
  "xmin": 2879004.2913800003,
  "ymin": 1324897.1344,
  "xmax": 2880212.4603800005,
  "ymax": 1326329.6764,
  "spatialReference": {
   "wkid": 102653,
   "latestWkid": 2231
  }
 },
 "sortableFields": "",
 "bandCount": 4,
 "pixelType": "U8",
 "minValues": [
  0,
  0,
  0,
  0
 ],
 "maxValues": [
  255,
  255,
  255,
  255
 ],
 "meanValues": [
  56.243830782024,
  53.622069837459,
  48.003261625765,
  142.70622338653
 ],
 "stdvValues": [
  58.711342509805,
  56.594871686422,
  52.033736708487,
  126.58997111872
 ],
 "hasMultidimensions": false,
 "pixelSizeX": 0.043500000000008185,
 "pixelSizeY": 0.043499999999996944,
 "meanPixelSize": 0.013258826517653819,
 "datasetFormat": "TIFF",
 "uncompressedSize": 3658481744,
 "blockWidth": 27774,
 "blockHeight": 1,
 "compressionType": "LZW",
 "bandNames": [
  "Band_1",
  "Band_2",
  "Band_3",
  "Band_4"
 ],
 "allowCopy": true,
 "allowAnalysis": true,
 "itemAccess": false,
 "inspectionCapabilities": "",
 "noDataValue": 0,
 "noDataValues": [
  0,
  0,
  0,
  0
 ],
 "minPixelSize": 0,
 "maxPixelSize": 0,
 "copyrightText": "",
 "serviceDataType": "esriImageServiceDataTypeGeneric",
 "serviceSourceType": "esriImageServiceSourceTypeDataset",
 "objectIdField": "",
 "fields": [],
 "capabilities": "Image,Metadata,Mensuration",
 "defaultMosaicMethod": "Center",
 "allowedMosaicMethods": "",
 "sortField": "",
 "sortValue": null,
 "sortAscending": true,
 "mosaicOperator": "First",
 "defaultCompressionQuality": 75,
 "defaultResamplingMethod": "Bilinear",
 "maxImageHeight": 4100,
 "maxImageWidth": 15000,
 "allowRasterFunction": true,
 "rasterFunctionInfos": [
  {
   "name": "None",
   "description": "",
   "help": ""
  }
 ],
 "rasterTypeInfos": [
  {
   "name": "Raster Dataset",
   "description": "Supports all ArcGIS Raster Datasets",
   "help": ""
  }
 ],
 "mensurationCapabilities": "Basic",
 "hasHistograms": true,
 "hasColormap": false,
 "hasRasterAttributeTable": false,
 "minScale": 0,
 "maxScale": 0,
 "exportTilesAllowed": false,
 "supportsStatistics": false,
 "supportsAdvancedQueries": false,
 "editFieldsInfo": null,
 "ownershipBasedAccessControlForRasters": null,
 "allowComputeTiePoints": false,
 "useStandardizedQueries": true,
 "advancedQueryCapabilities": {
  "useStandardizedQueries": true,
  "supportsStatistics": false,
  "supportsOrderBy": false,
  "supportsDistinct": false,
  "supportsPagination": false
 },
 "spatialReference": {
  "wkid": 102653,
  "latestWkid": 2231
 }
}
