{
 "currentVersion": 11.2,
 "serviceDescription": "Stillwater_Creek4_11_03_2023",
 "name": "Stillwater_Creek4_11_03_2023",
 "description": "",
 "extent": {
  "xmin": 2880409.419,
  "ymin": 1324394.34358,
  "xmax": 2881439.6683500004,
  "ymax": 1326242.25328,
  "spatialReference": {
   "wkid": 102653,
   "latestWkid": 2231
  }
 },
 "initialExtent": {
  "xmin": 2880409.419,
  "ymin": 1324394.34358,
  "xmax": 2881439.6683500004,
  "ymax": 1326242.25328,
  "spatialReference": {
   "wkid": 102653,
   "latestWkid": 2231
  }
 },
 "fullExtent": {
  "xmin": 2880409.419,
  "ymin": 1324394.34358,
  "xmax": 2881439.6683500004,
  "ymax": 1326242.25328,
  "spatialReference": {
   "wkid": 102653,
   "latestWkid": 2231
  }
 },
 "sortableFields": "",
 "bandCount": 4,
 "pixelType": "U8",
 "minValues": [
  0,
  0,
  0,
  0
 ],
 "maxValues": [
  255,
  255,
  255,
  255
 ],
 "meanValues": [
  63.649314502174,
  60.168361736652,
  53.012889110101,
  160.49336251954
 ],
 "stdvValues": [
  60.01095294407,
  57.77945728806,
  53.266153083106,
  123.15716806456
 ],
 "hasMultidimensions": false,
 "pixelSizeX": 0.04485000000000752,
 "pixelSizeY": 0.04484999999999903,
 "meanPixelSize": 0.013670307340615681,
 "datasetFormat": "TIFF",
 "uncompressedSize": 3785804568,
 "blockWidth": 22971,
 "blockHeight": 1,
 "compressionType": "LZW",
 "bandNames": [
  "Band_1",
  "Band_2",
  "Band_3",
  "Band_4"
 ],
 "allowCopy": true,
 "allowAnalysis": true,
 "itemAccess": false,
 "inspectionCapabilities": "",
 "noDataValue": 0,
 "noDataValues": [
  0,
  0,
  0,
  0
 ],
 "minPixelSize": 0,
 "maxPixelSize": 0,
 "copyrightText": "",
 "serviceDataType": "esriImageServiceDataTypeGeneric",
 "serviceSourceType": "esriImageServiceSourceTypeDataset",
 "objectIdField": "",
 "fields": [],
 "capabilities": "Image,Metadata,Mensuration",
 "defaultMosaicMethod": "Center",
 "allowedMosaicMethods": "",
 "sortField": "",
 "sortValue": null,
 "sortAscending": true,
 "mosaicOperator": "First",
 "defaultCompressionQuality": 75,
 "defaultResamplingMethod": "Bilinear",
 "maxImageHeight": 4100,
 "maxImageWidth": 15000,
 "allowRasterFunction": true,
 "rasterFunctionInfos": [
  {
   "name": "None",
   "description": "",
   "help": ""
  }
 ],
 "rasterTypeInfos": [
  {
   "name": "Raster Dataset",
   "description": "Supports all ArcGIS Raster Datasets",
   "help": ""
  }
 ],
 "mensurationCapabilities": "Basic",
 "hasHistograms": true,
 "hasColormap": false,
 "hasRasterAttributeTable": false,
 "minScale": 0,
 "maxScale": 0,
 "exportTilesAllowed": false,
 "supportsStatistics": false,
 "supportsAdvancedQueries": false,
 "editFieldsInfo": null,
 "ownershipBasedAccessControlForRasters": null,
 "allowComputeTiePoints": false,
 "useStandardizedQueries": true,
 "advancedQueryCapabilities": {
  "useStandardizedQueries": true,
  "supportsStatistics": false,
  "supportsOrderBy": false,
  "supportsDistinct": false,
  "supportsPagination": false
 },
 "spatialReference": {
  "wkid": 102653,
  "latestWkid": 2231
 }
}
