{
 "currentVersion": 11.2,
 "serviceDescription": "YARS Buildable Heights",
 "name": "YARS_Buildable_Heights",
 "description": "YARS Buildable Heights",
 "extent": {
  "xmin": 2420120.6995345354,
  "ymin": 537081.6838901341,
  "xmax": 2516530.6995345354,
  "ymax": 635524.1838901341,
  "spatialReference": {
   "wkid": 3753,
   "latestWkid": 3753
  }
 },
 "initialExtent": {
  "xmin": 2420120.6995345354,
  "ymin": 537081.6838901341,
  "xmax": 2516530.6995345354,
  "ymax": 635524.1838901341,
  "spatialReference": {
   "wkid": 3753,
   "latestWkid": 3753
  }
 },
 "fullExtent": {
  "xmin": 2420120.6995345354,
  "ymin": 537081.6838901341,
  "xmax": 2516530.6995345354,
  "ymax": 635524.1838901341,
  "spatialReference": {
   "wkid": 3753,
   "latestWkid": 3753
  }
 },
 "sortableFields": "",
 "bandCount": 1,
 "pixelType": "S32",
 "minValues": [],
 "maxValues": [],
 "meanValues": [],
 "stdvValues": [],
 "hasMultidimensions": false,
 "pixelSizeX": 2.5,
 "pixelSizeY": 2.5,
 "meanPixelSize": 0.7620015240030481,
 "datasetFormat": "GRID",
 "uncompressedSize": 6074138512,
 "blockWidth": 256,
 "blockHeight": 16,
 "compressionType": "RLE",
 "bandNames": [
  "yarsbldagl"
 ],
 "allowCopy": true,
 "allowAnalysis": true,
 "itemAccess": false,
 "inspectionCapabilities": "",
 "noDataValue": -2147483647,
 "noDataValues": [
  -2147483647
 ],
 "minPixelSize": 0,
 "maxPixelSize": 0,
 "copyrightText": "",
 "serviceDataType": "esriImageServiceDataTypeGeneric",
 "serviceSourceType": "esriImageServiceSourceTypeDataset",
 "objectIdField": "",
 "fields": [],
 "capabilities": "Mensuration,Image,Metadata",
 "defaultMosaicMethod": "Center",
 "allowedMosaicMethods": "",
 "sortField": "",
 "sortValue": null,
 "sortAscending": true,
 "mosaicOperator": "First",
 "defaultCompressionQuality": 75,
 "defaultResamplingMethod": "Bilinear",
 "maxImageHeight": 4100,
 "maxImageWidth": 15000,
 "singleFusedMapCache": true,
 "tileInfo": {
  "rows": 256,
  "cols": 256,
  "dpi": 96,
  "format": "MIXED",
  "compressionQuality": 75,
  "origin": {
   "x": -118963900,
   "y": 145491000
  },
  "spatialReference": {
   "wkid": 3753,
   "latestWkid": 3753
  },
  "lods": [
   {
    "level": 0,
    "resolution": 217.01388888888889,
    "scale": 250000
   },
   {
    "level": 1,
    "resolution": 108.50694444444444,
    "scale": 125000
   },
   {
    "level": 2,
    "resolution": 55.55555555555555,
    "scale": 64000
   },
   {
    "level": 3,
    "resolution": 27.777777777777775,
    "scale": 32000
   },
   {
    "level": 4,
    "resolution": 13.888888888888888,
    "scale": 16000
   }
  ]
 },
 "storageInfo": {
  "storageFormat": "esriMapCacheStorageModeCompactV2",
  "packetSize": 128
 },
 "cacheType": "Map",
 "allowRasterFunction": true,
 "rasterFunctionInfos": [
  {
   "name": "None",
   "description": "",
   "help": ""
  }
 ],
 "rasterTypeInfos": [
  {
   "name": "Raster Dataset",
   "description": "Supports all ArcGIS Raster Datasets",
   "help": ""
  }
 ],
 "mensurationCapabilities": "Basic",
 "hasHistograms": false,
 "hasColormap": false,
 "hasRasterAttributeTable": false,
 "minScale": 0,
 "maxScale": 0,
 "exportTilesAllowed": false,
 "supportsStatistics": false,
 "supportsAdvancedQueries": false,
 "editFieldsInfo": null,
 "ownershipBasedAccessControlForRasters": null,
 "allowComputeTiePoints": false,
 "useStandardizedQueries": true,
 "advancedQueryCapabilities": {
  "useStandardizedQueries": true,
  "supportsStatistics": false,
  "supportsOrderBy": false,
  "supportsDistinct": false,
  "supportsPagination": false
 },
 "spatialReference": {
  "wkid": 3753,
  "latestWkid": 3753
 },
 "resampling": false
}
