View In:
ArcGIS JavaScript
ArcGIS Online Map Viewer
ArcGIS Earth
Service Description: Keesler AFB Composite Allowable Building Heights limited to Biloxi
Name: Biloxi_Keesler_Buildable_Heights
Description: Keesler AFB Composite Allowable Building Heights limited to Biloxi
Single Fused Map Cache: true
Tile Info:
- Height: 256
- Width: 256
- DPI: 96
-
Levels of Detail: 5
- Format: MIXED
- Compression Quality: 75.0
- LERC Error: NaN
- Origin: X: -1.74634E7
Y: 2.2103200000000007E7
- Spatial Reference: 103088
(6507)
VCSWkid(105703)
LatestVCSWkid(6360)
Storage Info:
- Storage Format: esriMapCacheStorageModeCompactV2
- Packet Size: 128
Extent:
XMin: 920444.1155827381
YMin: 311688
XMax: 995088.1155827381
YMax: 367648
Spatial Reference: 103088
(6507)
VCSWkid(105703)
LatestVCSWkid(6360)
Initial Extent:
XMin: 920444.1155827381
YMin: 311688
XMax: 995088.1155827381
YMax: 367648
Spatial Reference: 103088
(6507)
VCSWkid(105703)
LatestVCSWkid(6360)
Full Extent:
XMin: 920444.1155827381
YMin: 311688
XMax: 995088.1155827381
YMax: 367648
Spatial Reference: 103088
(6507)
VCSWkid(105703)
LatestVCSWkid(6360)
Pixel Size X: 4.0
Pixel Size Y: 4.0
Band Count: 1
Pixel Type: S32
RasterFunction Infos: {"rasterFunctionInfos": [{
"name": "None",
"description": "",
"help": ""
}]}
Mensuration Capabilities: Basic
Inspection Capabilities:
Has Histograms: true
Has Colormap: false
Has Multi Dimensions : false
Rendering Rule:
Min Scale: 0
Max Scale: 0
Resampling: false
Copyright Text:
Service Data Type: esriImageServiceDataTypeGeneric
Min Values: -13
Max Values: 527
Mean Values: 414.0030838945089
Standard Deviation Values: 150.84618465455534
Object ID Field:
Fields:
None
Default Mosaic Method: Center
Allowed Mosaic Methods:
SortField:
SortValue: null
Mosaic Operator: First
Default Compression Quality: 75
Default Resampling Method: Bilinear
Max Record Count: null
Max Image Height: 4100
Max Image Width: 15000
Max Download Image Count: null
Max Mosaic Image Count: null
Allow Raster Function: true
Allow Copy: true
Allow Analysis: true
Allow Compute TiePoints: false
Supports Statistics: false
Supports Advanced Queries: false
Use StandardizedQueries: true
Raster Type Infos:
Name: Raster Dataset
Description: Supports all ArcGIS Raster Datasets
Help:
Has Raster Attribute Table: false
Edit Fields Info: null
Ownership Based AccessControl For Rasters: null
Child Resources:
Info
Histograms
Statistics
Key Properties
Legend
Raster Function Infos
Supported Operations:
Export Image
Identify
Measure
Compute Histograms
Compute Statistics Histograms
Get Samples
Compute Class Statistics
Query Boundary
Compute Pixel Location
Compute Angles
Validate
Project