View In:
ArcGIS JavaScript
ArcGIS Online Map Viewer
ArcGIS Earth
Service Description: EWSE/EWSE_UpdatedImagery_1211_tif
Name: EWSE/EWSE_UpdatedImagery_1211_tif
Description:
Single Fused Map Cache: false
Extent:
XMin: 3194350.5001220703
YMin: 1330552.2501220703
XMax: 3247696.5001220703
YMax: 1371803.7501220703
Spatial Reference: PROJCS["NAD_1983_2011_StatePlane_Colorado_Central_FIPS_0502_Ft_US",GEOGCS["GCS_NAD_1983_2011",DATUM["D_NAD_1983_2011",SPHEROID["GRS_1980",6378137.0,298.257222101]],PRIMEM["Greenwich",0.0],UNIT["Degree",0.0174532925199433]],PROJECTION["Lambert_Conformal_Conic"],PARAMETER["False_Easting",3000000.0],PARAMETER["False_Northing",1000000.0],PARAMETER["Central_Meridian",-105.5],PARAMETER["Standard_Parallel_1",38.45],PARAMETER["Standard_Parallel_2",39.75],PARAMETER["Latitude_Of_Origin",37.8333333333333],UNIT["Foot_US",0.3048006096012192]],VERTCS["EGM96_Geoid",VDATUM["EGM96_Geoid"],PARAMETER["Vertical_Shift",0.0],PARAMETER["Direction",1.0],UNIT["Meter",1.0]]
Initial Extent:
XMin: 3194350.5001220703
YMin: 1330552.2501220703
XMax: 3247696.5001220703
YMax: 1371803.7501220703
Spatial Reference: PROJCS["NAD_1983_2011_StatePlane_Colorado_Central_FIPS_0502_Ft_US",GEOGCS["GCS_NAD_1983_2011",DATUM["D_NAD_1983_2011",SPHEROID["GRS_1980",6378137.0,298.257222101]],PRIMEM["Greenwich",0.0],UNIT["Degree",0.0174532925199433]],PROJECTION["Lambert_Conformal_Conic"],PARAMETER["False_Easting",3000000.0],PARAMETER["False_Northing",1000000.0],PARAMETER["Central_Meridian",-105.5],PARAMETER["Standard_Parallel_1",38.45],PARAMETER["Standard_Parallel_2",39.75],PARAMETER["Latitude_Of_Origin",37.8333333333333],UNIT["Foot_US",0.3048006096012192]],VERTCS["EGM96_Geoid",VDATUM["EGM96_Geoid"],PARAMETER["Vertical_Shift",0.0],PARAMETER["Direction",1.0],UNIT["Meter",1.0]]
Full Extent:
XMin: 3194350.5001220703
YMin: 1330552.2501220703
XMax: 3247696.5001220703
YMax: 1371803.7501220703
Spatial Reference: PROJCS["NAD_1983_2011_StatePlane_Colorado_Central_FIPS_0502_Ft_US",GEOGCS["GCS_NAD_1983_2011",DATUM["D_NAD_1983_2011",SPHEROID["GRS_1980",6378137.0,298.257222101]],PRIMEM["Greenwich",0.0],UNIT["Degree",0.0174532925199433]],PROJECTION["Lambert_Conformal_Conic"],PARAMETER["False_Easting",3000000.0],PARAMETER["False_Northing",1000000.0],PARAMETER["Central_Meridian",-105.5],PARAMETER["Standard_Parallel_1",38.45],PARAMETER["Standard_Parallel_2",39.75],PARAMETER["Latitude_Of_Origin",37.8333333333333],UNIT["Foot_US",0.3048006096012192]],VERTCS["EGM96_Geoid",VDATUM["EGM96_Geoid"],PARAMETER["Vertical_Shift",0.0],PARAMETER["Direction",1.0],UNIT["Meter",1.0]]
Pixel Size X: 0.25
Pixel Size Y: 0.25
Band Count: 3
Pixel Type: U8
RasterFunction Infos: {"rasterFunctionInfos": [{
"name": "None",
"description": "",
"help": ""
}]}
Mensuration Capabilities: Basic
Inspection Capabilities:
Has Histograms: true
Has Colormap: false
Has Multi Dimensions : false
Rendering Rule:
Min Scale: 0
Max Scale: 0
Copyright Text:
Service Data Type: esriImageServiceDataTypeRGB
Min Values: 1, 1, 1
Max Values: 255, 255, 255
Mean Values: 135.1080898982, 117.8275574885, 99.72451877591
Standard Deviation Values: 47.044829958242, 45.373080796161, 43.890165620332
Object ID Field:
Fields:
None
Default Mosaic Method: Center
Allowed Mosaic Methods:
SortField:
SortValue: null
Mosaic Operator: First
Default Compression Quality: 75
Default Resampling Method: Bilinear
Max Record Count: null
Max Image Height: 4100
Max Image Width: 15000
Max Download Image Count: null
Max Mosaic Image Count: null
Allow Raster Function: true
Allow Copy: true
Allow Analysis: true
Allow Compute TiePoints: false
Supports Statistics: false
Supports Advanced Queries: false
Use StandardizedQueries: true
Raster Type Infos:
Name: Raster Dataset
Description: Supports all ArcGIS Raster Datasets
Help:
Has Raster Attribute Table: false
Edit Fields Info: null
Ownership Based AccessControl For Rasters: null
Child Resources:
Info
Histograms
Statistics
Key Properties
Legend
Raster Function Infos
Supported Operations:
Export Image
Identify
Measure
Compute Histograms
Compute Statistics Histograms
Get Samples
Compute Class Statistics
Query Boundary
Compute Pixel Location
Compute Angles
Validate
Project