View In:
ArcGIS JavaScript
ArcGIS Online Map Viewer
ArcGIS Earth
Service Description: Kauffman_Creek_Aerial_2023_11_03
Name: Kauffman_Creek_Aerial_2023_11_03
Description:
Single Fused Map Cache: false
Extent:
XMin: 408419.1899486706
YMin: 4458081.620415127
XMax: 409429.782759514
YMax: 4458487.740069176
Spatial Reference: 26913
(26913)
Initial Extent:
XMin: 408419.1899486706
YMin: 4458081.620415127
XMax: 409429.782759514
YMax: 4458487.740069176
Spatial Reference: 26913
(26913)
Full Extent:
XMin: 408419.1899486706
YMin: 4458081.620415127
XMax: 409429.782759514
YMax: 4458487.740069176
Spatial Reference: 26913
(26913)
Pixel Size X: 0.013326732920711213
Pixel Size Y: 0.013649704367598749
Band Count: 4
Pixel Type: U8
RasterFunction Infos: {"rasterFunctionInfos": [{
"name": "None",
"description": "",
"help": ""
}]}
Mensuration Capabilities: Basic
Inspection Capabilities:
Has Histograms: true
Has Colormap: false
Has Multi Dimensions : false
Rendering Rule:
Min Scale: 0
Max Scale: 0
Copyright Text:
Service Data Type: esriImageServiceDataTypeGeneric
Min Values: 1, 1, 1, 255
Max Values: 255, 255, 255, 255
Mean Values: 148.37434192273, 143.1309308984, 139.79587086288, 255
Standard Deviation Values: 60.951544976199, 63.734221367875, 67.759818009679, 0
Object ID Field:
Fields:
None
Default Mosaic Method: Center
Allowed Mosaic Methods:
SortField:
SortValue: null
Mosaic Operator: First
Default Compression Quality: 75
Default Resampling Method: Bilinear
Max Record Count: null
Max Image Height: 4100
Max Image Width: 15000
Max Download Image Count: null
Max Mosaic Image Count: null
Allow Raster Function: true
Allow Copy: true
Allow Analysis: true
Allow Compute TiePoints: false
Supports Statistics: false
Supports Advanced Queries: false
Use StandardizedQueries: true
Raster Type Infos:
Name: Raster Dataset
Description: Supports all ArcGIS Raster Datasets
Help:
Has Raster Attribute Table: false
Edit Fields Info: null
Ownership Based AccessControl For Rasters: null
Child Resources:
Info
Histograms
Statistics
Key Properties
Legend
Raster Function Infos
Supported Operations:
Export Image
Identify
Measure
Compute Histograms
Compute Statistics Histograms
Get Samples
Compute Class Statistics
Query Boundary
Compute Pixel Location
Compute Angles
Validate
Project