View In:
ArcGIS JavaScript
ArcGIS Online Map Viewer
ArcGIS Earth
Service Description: Stillwater_Creek2_9_7_2023
Name: Stillwater_Creek2_9_7_2023
Description:
Single Fused Map Cache: false
Extent:
XMin: 422815.86605
YMin: 4453005.197760001
XMax: 423144.77015
YMax: 4454090.426080001
Spatial Reference: 32613
(32613)
Initial Extent:
XMin: 422815.86605
YMin: 4453005.197760001
XMax: 423144.77015
YMax: 4454090.426080001
Spatial Reference: 32613
(32613)
Full Extent:
XMin: 422815.86605
YMin: 4453005.197760001
XMax: 423144.77015
YMax: 4454090.426080001
Spatial Reference: 32613
(32613)
Pixel Size X: 0.014109999999999364
Pixel Size Y: 0.014109999999996905
Band Count: 4
Pixel Type: U8
RasterFunction Infos: {"rasterFunctionInfos": [{
"name": "None",
"description": "",
"help": ""
}]}
Mensuration Capabilities: Basic
Inspection Capabilities:
Has Histograms: true
Has Colormap: false
Has Multi Dimensions : false
Rendering Rule:
Min Scale: 0
Max Scale: 0
Resampling: false
Copyright Text:
Service Data Type: esriImageServiceDataTypeGeneric
Min Values: 0, 0, 0, 0
Max Values: 255, 255, 255, 255
Mean Values: 54.355382604991, 52.635994153882, 47.373520618978, 136.32119238733
Standard Deviation Values: 62.013322253033, 60.100087964764, 56.563301393739, 127.19448326824
Object ID Field:
Fields:
None
Default Mosaic Method: Center
Allowed Mosaic Methods:
SortField:
SortValue: null
Mosaic Operator: First
Default Compression Quality: 75
Default Resampling Method: Bilinear
Max Record Count: null
Max Image Height: 4100
Max Image Width: 15000
Max Download Image Count: null
Max Mosaic Image Count: null
Allow Raster Function: true
Allow Copy: true
Allow Analysis: true
Allow Compute TiePoints: false
Supports Statistics: false
Supports Advanced Queries: false
Use StandardizedQueries: true
Raster Type Infos:
Name: Raster Dataset
Description: Supports all ArcGIS Raster Datasets
Help:
Has Raster Attribute Table: false
Edit Fields Info: null
Ownership Based AccessControl For Rasters: null
Child Resources:
Info
Histograms
Statistics
Key Properties
Legend
Raster Function Infos
Supported Operations:
Export Image
Identify
Measure
Compute Histograms
Compute Statistics Histograms
Get Samples
Compute Class Statistics
Query Boundary
Compute Pixel Location
Compute Angles
Validate
Project