View In:
ArcGIS JavaScript
ArcGIS Online Map Viewer
ArcGIS Earth
Service Description: Stillwater_Creek_1_Aerial_2025_09_18
Name: Stillwater_Creek_1_Aerial_2025_09_18
Description:
Single Fused Map Cache: false
Extent:
XMin: 421880.59862605616
YMin: 4452453.678966662
XMax: 423157.3145105692
YMax: 4453774.392253251
Spatial Reference: 26913
(26913)
Initial Extent:
XMin: 421880.59862605616
YMin: 4452453.678966662
XMax: 423157.3145105692
YMax: 4453774.392253251
Spatial Reference: 26913
(26913)
Full Extent:
XMin: 421880.59862605616
YMin: 4452453.678966662
XMax: 423157.3145105692
YMax: 4453774.392253251
Spatial Reference: 26913
(26913)
Pixel Size X: 0.01360466182721375
Pixel Size Y: 0.0135941585600949
Band Count: 4
Pixel Type: U8
RasterFunction Infos: {"rasterFunctionInfos": [{
"name": "None",
"description": "",
"help": ""
}]}
Mensuration Capabilities: Basic
Inspection Capabilities:
Has Histograms: true
Has Colormap: false
Has Multi Dimensions : false
Rendering Rule:
Min Scale: 0
Max Scale: 0
Copyright Text:
Service Data Type: esriImageServiceDataTypeGeneric
Min Values: 1, 1, 1, 255
Max Values: 255, 255, 255, 255
Mean Values: 185.38555587945, 184.45117514277, 177.38907236151, 255
Standard Deviation Values: 42.231994737676, 41.887702023047, 42.786123021148, 0
Object ID Field:
Fields:
None
Default Mosaic Method: Center
Allowed Mosaic Methods:
SortField:
SortValue: null
Mosaic Operator: First
Default Compression Quality: 75
Default Resampling Method: Bilinear
Max Record Count: null
Max Image Height: 4100
Max Image Width: 15000
Max Download Image Count: null
Max Mosaic Image Count: null
Allow Raster Function: true
Allow Copy: true
Allow Analysis: true
Allow Compute TiePoints: false
Supports Statistics: false
Supports Advanced Queries: false
Use StandardizedQueries: true
Raster Type Infos:
Name: Raster Dataset
Description: Supports all ArcGIS Raster Datasets
Help:
Has Raster Attribute Table: false
Edit Fields Info: null
Ownership Based AccessControl For Rasters: null
Child Resources:
Info
Histograms
Statistics
Key Properties
Legend
Raster Function Infos
Supported Operations:
Export Image
Identify
Measure
Compute Histograms
Compute Statistics Histograms
Get Samples
Compute Class Statistics
Query Boundary
Compute Pixel Location
Compute Angles
Validate
Project