View In:
ArcGIS JavaScript
ArcGIS Online Map Viewer
ArcGIS Earth
Service Description: VolumeEstimate_Stillwater1_1YR_VegRemoved
Name: VolumeEstimate_Stillwater1_1YR_VegRemoved
Description:
Single Fused Map Cache: false
Extent:
XMin: 2884468.1268
YMin: 1324109.6722
XMax: 2885681.6268
YMax: 1325783.1722
Spatial Reference: PROJCS["NAD_1983_2011_StatePlane_Colorado_North_FIPS_0501_Ft_US",GEOGCS["GCS_NAD_1983_2011",DATUM["D_NAD_1983_2011",SPHEROID["GRS_1980",6378137.0,298.257222101]],PRIMEM["Greenwich",0.0],UNIT["Degree",0.0174532925199433]],PROJECTION["Lambert_Conformal_Conic"],PARAMETER["False_Easting",3000000.0],PARAMETER["False_Northing",1000000.0],PARAMETER["Central_Meridian",-105.5],PARAMETER["Standard_Parallel_1",39.7166666666667],PARAMETER["Standard_Parallel_2",40.7833333333333],PARAMETER["Latitude_Of_Origin",39.3333333333333],UNIT["Foot_US",0.3048006096012192]],VERTCS["NAVD88_height_(ftUS)",VDATUM["North_American_Vertical_Datum_1988"],PARAMETER["Vertical_Shift",0.0],PARAMETER["Direction",1.0],UNIT["Foot_US",0.3048006096012192]]
Initial Extent:
XMin: 2884468.1268
YMin: 1324109.6722
XMax: 2885681.6268
YMax: 1325783.1722
Spatial Reference: PROJCS["NAD_1983_2011_StatePlane_Colorado_North_FIPS_0501_Ft_US",GEOGCS["GCS_NAD_1983_2011",DATUM["D_NAD_1983_2011",SPHEROID["GRS_1980",6378137.0,298.257222101]],PRIMEM["Greenwich",0.0],UNIT["Degree",0.0174532925199433]],PROJECTION["Lambert_Conformal_Conic"],PARAMETER["False_Easting",3000000.0],PARAMETER["False_Northing",1000000.0],PARAMETER["Central_Meridian",-105.5],PARAMETER["Standard_Parallel_1",39.7166666666667],PARAMETER["Standard_Parallel_2",40.7833333333333],PARAMETER["Latitude_Of_Origin",39.3333333333333],UNIT["Foot_US",0.3048006096012192]],VERTCS["NAVD88_height_(ftUS)",VDATUM["North_American_Vertical_Datum_1988"],PARAMETER["Vertical_Shift",0.0],PARAMETER["Direction",1.0],UNIT["Foot_US",0.3048006096012192]]
Full Extent:
XMin: 2884468.1268
YMin: 1324109.6722
XMax: 2885681.6268
YMax: 1325783.1722
Spatial Reference: PROJCS["NAD_1983_2011_StatePlane_Colorado_North_FIPS_0501_Ft_US",GEOGCS["GCS_NAD_1983_2011",DATUM["D_NAD_1983_2011",SPHEROID["GRS_1980",6378137.0,298.257222101]],PRIMEM["Greenwich",0.0],UNIT["Degree",0.0174532925199433]],PROJECTION["Lambert_Conformal_Conic"],PARAMETER["False_Easting",3000000.0],PARAMETER["False_Northing",1000000.0],PARAMETER["Central_Meridian",-105.5],PARAMETER["Standard_Parallel_1",39.7166666666667],PARAMETER["Standard_Parallel_2",40.7833333333333],PARAMETER["Latitude_Of_Origin",39.3333333333333],UNIT["Foot_US",0.3048006096012192]],VERTCS["NAVD88_height_(ftUS)",VDATUM["North_American_Vertical_Datum_1988"],PARAMETER["Vertical_Shift",0.0],PARAMETER["Direction",1.0],UNIT["Foot_US",0.3048006096012192]]
Pixel Size X: 0.5
Pixel Size Y: 0.5
Band Count: 1
Pixel Type: F32
RasterFunction Infos: {"rasterFunctionInfos": [{
"name": "None",
"description": "",
"help": ""
}]}
Mensuration Capabilities: Basic
Inspection Capabilities:
Has Histograms: true
Has Colormap: false
Has Multi Dimensions : false
Rendering Rule:
Min Scale: 0
Max Scale: 0
Copyright Text:
Service Data Type: esriImageServiceDataTypeGeneric
Min Values: -1.851806640625
Max Values: 2.4580078125
Mean Values: 0.079337086565759
Standard Deviation Values: 0.1667137976985
Object ID Field:
Fields:
None
Default Mosaic Method: Center
Allowed Mosaic Methods:
SortField:
SortValue: null
Mosaic Operator: First
Default Compression Quality: 75
Default Resampling Method: Bilinear
Max Record Count: null
Max Image Height: 4100
Max Image Width: 15000
Max Download Image Count: null
Max Mosaic Image Count: null
Allow Raster Function: true
Allow Copy: true
Allow Analysis: true
Allow Compute TiePoints: false
Supports Statistics: false
Supports Advanced Queries: false
Use StandardizedQueries: true
Raster Type Infos:
Name: Raster Dataset
Description: Supports all ArcGIS Raster Datasets
Help:
Has Raster Attribute Table: false
Edit Fields Info: null
Ownership Based AccessControl For Rasters: null
Child Resources:
Info
Histograms
Statistics
Key Properties
Legend
Raster Function Infos
Supported Operations:
Export Image
Identify
Measure
Compute Histograms
Compute Statistics Histograms
Get Samples
Compute Class Statistics
Query Boundary
Compute Pixel Location
Compute Angles
Validate
Project