View In:
ArcGIS JavaScript
ArcGIS Online Map Viewer
ArcGIS Earth
Service Description: Volume_Estimate_Kauffman_1Yr_Veg_Removed
Name: Volume_Estimate_Kauffman_1Yr_Veg_Removed
Description:
Single Fused Map Cache: false
Extent:
XMin: 408872.68056717544
YMin: 4458197.552826615
XMax: 409281.26578434586
YMax: 4458355.896743303
Spatial Reference: 26913
(26913)
Initial Extent:
XMin: 408872.68056717544
YMin: 4458197.552826615
XMax: 409281.26578434586
YMax: 4458355.896743303
Spatial Reference: 26913
(26913)
Full Extent:
XMin: 408872.68056717544
YMin: 4458197.552826615
XMax: 409281.26578434586
YMax: 4458355.896743303
Spatial Reference: 26913
(26913)
Pixel Size X: 0.15240030480060324
Pixel Size Y: 0.15240030480088007
Band Count: 1
Pixel Type: F32
RasterFunction Infos: {"rasterFunctionInfos": [{
"name": "None",
"description": "",
"help": ""
}]}
Mensuration Capabilities: Basic
Inspection Capabilities:
Has Histograms: true
Has Colormap: false
Has Multi Dimensions : false
Rendering Rule:
Min Scale: 0
Max Scale: 0
Copyright Text:
Service Data Type: esriImageServiceDataTypeGeneric
Min Values: -0.56591796875
Max Values: 1.277587890625
Mean Values: 0.10704542373952
Standard Deviation Values: 0.077358310369528
Object ID Field:
Fields:
None
Default Mosaic Method: Center
Allowed Mosaic Methods:
SortField:
SortValue: null
Mosaic Operator: First
Default Compression Quality: 75
Default Resampling Method: Bilinear
Max Record Count: null
Max Image Height: 4100
Max Image Width: 15000
Max Download Image Count: null
Max Mosaic Image Count: null
Allow Raster Function: true
Allow Copy: true
Allow Analysis: true
Allow Compute TiePoints: false
Supports Statistics: false
Supports Advanced Queries: false
Use StandardizedQueries: true
Raster Type Infos:
Name: Raster Dataset
Description: Supports all ArcGIS Raster Datasets
Help:
Has Raster Attribute Table: false
Edit Fields Info: null
Ownership Based AccessControl For Rasters: null
Child Resources:
Info
Histograms
Statistics
Key Properties
Legend
Raster Function Infos
Supported Operations:
Export Image
Identify
Measure
Compute Histograms
Compute Statistics Histograms
Get Samples
Compute Class Statistics
Query Boundary
Compute Pixel Location
Compute Angles
Validate
Project