View In:
ArcGIS JavaScript
ArcGIS Online Map Viewer
ArcGIS Earth
Service Description: Kauffman_Creek_11_03_2023
Name: Kauffman_Creek_11_03_2023
Description:
Single Fused Map Cache: false
Extent:
XMin: 2838966.93704
YMin: 1341103.5160100001
XMax: 2842261.54862
YMax: 1342380.3815000001
Spatial Reference: 102653
(2231)
Initial Extent:
XMin: 2838966.93704
YMin: 1341103.5160100001
XMax: 2842261.54862
YMax: 1342380.3815000001
Spatial Reference: 102653
(2231)
Full Extent:
XMin: 2838966.93704
YMin: 1341103.5160100001
XMax: 2842261.54862
YMax: 1342380.3815000001
Spatial Reference: 102653
(2231)
Pixel Size X: 0.04352999999999727
Pixel Size Y: 0.04352999999999988
Band Count: 4
Pixel Type: U8
RasterFunction Infos: {"rasterFunctionInfos": [{
"name": "None",
"description": "",
"help": ""
}]}
Mensuration Capabilities: Basic
Inspection Capabilities:
Has Histograms: true
Has Colormap: false
Has Multi Dimensions : false
Rendering Rule:
Min Scale: 0
Max Scale: 0
Copyright Text:
Service Data Type: esriImageServiceDataTypeGeneric
Min Values: 0, 0, 0, 0
Max Values: 243, 243, 249, 255
Mean Values: 41.445103292762, 42.535363537115, 42.186168663103, 111.82964819932
Standard Deviation Values: 57.628649684905, 60.759549516695, 62.414356320373, 126.5333556089
Object ID Field:
Fields:
None
Default Mosaic Method: Center
Allowed Mosaic Methods:
SortField:
SortValue: null
Mosaic Operator: First
Default Compression Quality: 75
Default Resampling Method: Bilinear
Max Record Count: null
Max Image Height: 4100
Max Image Width: 15000
Max Download Image Count: null
Max Mosaic Image Count: null
Allow Raster Function: true
Allow Copy: true
Allow Analysis: true
Allow Compute TiePoints: false
Supports Statistics: false
Supports Advanced Queries: false
Use StandardizedQueries: true
Raster Type Infos:
Name: Raster Dataset
Description: Supports all ArcGIS Raster Datasets
Help:
Has Raster Attribute Table: false
Edit Fields Info: null
Ownership Based AccessControl For Rasters: null
Child Resources:
Info
Histograms
Statistics
Key Properties
Legend
Raster Function Infos
Supported Operations:
Export Image
Identify
Measure
Compute Histograms
Compute Statistics Histograms
Get Samples
Compute Class Statistics
Query Boundary
Compute Pixel Location
Compute Angles
Validate
Project