View In:
ArcGIS JavaScript
ArcGIS Online Map Viewer
ArcGIS Earth
Service Description: Kauffman_Creek_Aerial_2025_09_19
Name: Kauffman_Creek_Aerial_2025_09_19
Description:
Single Fused Map Cache: false
Extent:
XMin: 408411.9575629178
YMin: 4458063.5222388115
XMax: 409432.90833871136
YMax: 4458498.673628714
Spatial Reference: 26913
(26913)
Initial Extent:
XMin: 408411.9575629178
YMin: 4458063.5222388115
XMax: 409432.90833871136
YMax: 4458498.673628714
Spatial Reference: 26913
(26913)
Full Extent:
XMin: 408411.9575629178
YMin: 4458063.5222388115
XMax: 409432.90833871136
YMax: 4458498.673628714
Spatial Reference: 26913
(26913)
Pixel Size X: 0.013097676375496529
Pixel Size Y: 0.013389273535460234
Band Count: 4
Pixel Type: U8
RasterFunction Infos: {"rasterFunctionInfos": [{
"name": "None",
"description": "",
"help": ""
}]}
Mensuration Capabilities: Basic
Inspection Capabilities:
Has Histograms: true
Has Colormap: false
Has Multi Dimensions : false
Rendering Rule:
Min Scale: 0
Max Scale: 0
Copyright Text:
Service Data Type: esriImageServiceDataTypeGeneric
Min Values: 1, 1, 1, 255
Max Values: 255, 255, 255, 255
Mean Values: 166.36018613193, 163.63818522467, 160.57009000703, 255
Standard Deviation Values: 46.003965952965, 46.356971580505, 45.341947679406, 0
Object ID Field:
Fields:
None
Default Mosaic Method: Center
Allowed Mosaic Methods:
SortField:
SortValue: null
Mosaic Operator: First
Default Compression Quality: 75
Default Resampling Method: Bilinear
Max Record Count: null
Max Image Height: 4100
Max Image Width: 15000
Max Download Image Count: null
Max Mosaic Image Count: null
Allow Raster Function: true
Allow Copy: true
Allow Analysis: true
Allow Compute TiePoints: false
Supports Statistics: false
Supports Advanced Queries: false
Use StandardizedQueries: true
Raster Type Infos:
Name: Raster Dataset
Description: Supports all ArcGIS Raster Datasets
Help:
Has Raster Attribute Table: false
Edit Fields Info: null
Ownership Based AccessControl For Rasters: null
Child Resources:
Info
Histograms
Statistics
Key Properties
Legend
Raster Function Infos
Supported Operations:
Export Image
Identify
Measure
Compute Histograms
Compute Statistics Histograms
Get Samples
Compute Class Statistics
Query Boundary
Compute Pixel Location
Compute Angles
Validate
Project