View In:
ArcGIS JavaScript
ArcGIS Online Map Viewer
ArcGIS Earth
Service Description: Nellis_Buildable_Heights
Name: Nellis_Buildable_Heights
Description:
Single Fused Map Cache: true
Tile Info:
- Height: 256
- Width: 256
- DPI: 96
-
Levels of Detail: 5
- Format: MIXED
- Compression Quality: 75.0
- LERC Error: NaN
- Origin: X: -1.77905E7
Y: 4.643889999999999E7
- Spatial Reference: 102707
(3421)
Storage Info:
- Storage Format: esriMapCacheStorageModeCompactV2
- Packet Size: 128
Extent:
XMin: 572728.5052108802
YMin: 2.6739429410635248E7
XMax: 866259.3063579202
YMax: 2.696428017372285E7
Spatial Reference: 102707
(3421)
Initial Extent:
XMin: 572728.5052108802
YMin: 2.6739429410635248E7
XMax: 866259.3063579202
YMax: 2.696428017372285E7
Spatial Reference: 102707
(3421)
Full Extent:
XMin: 572728.5052108802
YMin: 2.6739429410635248E7
XMax: 866259.3063579202
YMax: 2.696428017372285E7
Spatial Reference: 102707
(3421)
Pixel Size X: 30.242200818776013
Pixel Size Y: 30.242200818776123
Band Count: 1
Pixel Type: F32
RasterFunction Infos: {"rasterFunctionInfos": [{
"name": "None",
"description": "",
"help": ""
}]}
Mensuration Capabilities: Basic
Inspection Capabilities:
Has Histograms: true
Has Colormap: false
Has Multi Dimensions : false
Rendering Rule:
Min Scale: 0
Max Scale: 0
Resampling: false
Copyright Text:
Service Data Type: esriImageServiceDataTypeGeneric
Min Values: -1877
Max Values: 837
Mean Values: 78.449389608156
Standard Deviation Values: 456.99667220728
Object ID Field:
Fields:
None
Default Mosaic Method: Center
Allowed Mosaic Methods:
SortField:
SortValue: null
Mosaic Operator: First
Default Compression Quality: 75
Default Resampling Method: Bilinear
Max Record Count: null
Max Image Height: 4100
Max Image Width: 15000
Max Download Image Count: null
Max Mosaic Image Count: null
Allow Raster Function: true
Allow Copy: true
Allow Analysis: true
Allow Compute TiePoints: false
Supports Statistics: false
Supports Advanced Queries: false
Use StandardizedQueries: true
Raster Type Infos:
Name: Raster Dataset
Description: Supports all ArcGIS Raster Datasets
Help:
Has Raster Attribute Table: false
Edit Fields Info: null
Ownership Based AccessControl For Rasters: null
Child Resources:
Info
Histograms
Statistics
Key Properties
Legend
Raster Function Infos
Supported Operations:
Export Image
Identify
Measure
Compute Histograms
Compute Statistics Histograms
Get Samples
Compute Class Statistics
Query Boundary
Compute Pixel Location
Compute Angles
Validate
Project