View In:
ArcGIS JavaScript
ArcGIS Online Map Viewer
ArcGIS Earth
Service Description: This raster represents the buildable height limits for the area around Redstone Arsenal in Alabama. It is derived from the imaginary surfaces for the airfield at Redstone Arsenal and accounts for the ground elevation. So the values represent the height, in feet, above ground level, that a structure could be built before it would intrude into the imaginary surfaces. Source ground elevation comes from USGS and is at 10 meter resolution. The imaginary surfaces were modeled in 1 foot contours and converted to a raster with 10 foot x 10 foot cells, and then the ground elevations were removed. Note that Redstone Arsenal also has an imaginary surface called an EMOS, which this raster layer does not reflect, as the data was not provided to us at the time of creation. This layer is intended to be updated and replaced at a later date when that data is provided.
Name: Redstone_Buildable_NoEMOS
Description: This raster represents the buildable height limits for the area around Redstone Arsenal in Alabama. It is derived from the imaginary surfaces for the airfield at Redstone Arsenal and accounts for the ground elevation. So the values represent the height, in feet, above ground level, that a structure could be built before it would intrude into the imaginary surfaces. Source ground elevation comes from USGS and is at 10 meter resolution. The imaginary surfaces were modeled in 1 foot contours and converted to a raster with 10 foot x 10 foot cells, and then the ground elevations were removed. Note that Redstone Arsenal also has an imaginary surface called an EMOS, which this raster layer does not reflect, as the data was not provided to us at the time of creation. This layer is intended to be updated and replaced at a later date when that data is provided.
Single Fused Map Cache: false
Extent:
XMin: 355011.42285507545
YMin: 1466898.5412000045
XMax: 445321.42285507545
YMax: 1575778.5412000045
Spatial Reference: 102629
(102629)
Initial Extent:
XMin: 355011.42285507545
YMin: 1466898.5412000045
XMax: 445321.42285507545
YMax: 1575778.5412000045
Spatial Reference: 102629
(102629)
Full Extent:
XMin: 355011.42285507545
YMin: 1466898.5412000045
XMax: 445321.42285507545
YMax: 1575778.5412000045
Spatial Reference: 102629
(102629)
Pixel Size X: 10.0
Pixel Size Y: 10.0
Band Count: 1
Pixel Type: S16
RasterFunction Infos: {"rasterFunctionInfos": [{
"name": "None",
"description": "",
"help": ""
}]}
Mensuration Capabilities: Basic
Inspection Capabilities:
Has Histograms: true
Has Colormap: false
Has Multi Dimensions : false
Rendering Rule:
Min Scale: 0
Max Scale: 0
Copyright Text:
Service Data Type: esriImageServiceDataTypeGeneric
Min Values: -252
Max Values: 623
Mean Values: 488.77986607071
Standard Deviation Values: 125.87000241114
Object ID Field:
Fields:
None
Default Mosaic Method: Center
Allowed Mosaic Methods:
SortField:
SortValue: null
Mosaic Operator: First
Default Compression Quality: 75
Default Resampling Method: Bilinear
Max Record Count: null
Max Image Height: 4100
Max Image Width: 15000
Max Download Image Count: null
Max Mosaic Image Count: null
Allow Raster Function: true
Allow Copy: true
Allow Analysis: true
Allow Compute TiePoints: false
Supports Statistics: false
Supports Advanced Queries: false
Use StandardizedQueries: true
Raster Type Infos:
Name: Raster Dataset
Description: Supports all ArcGIS Raster Datasets
Help:
Has Raster Attribute Table: true
Edit Fields Info: null
Ownership Based AccessControl For Rasters: null
Child Resources:
Info
Raster Attribute Table
Histograms
Statistics
Key Properties
Legend
Raster Function Infos
Supported Operations:
Export Image
Identify
Measure
Compute Histograms
Compute Statistics Histograms
Get Samples
Compute Class Statistics
Query Boundary
Compute Pixel Location
Compute Angles
Validate
Project