View In:
ArcGIS JavaScript
ArcGIS Online Map Viewer
ArcGIS Earth
Service Description: Stillwater1_Aerial_2023_09_07
Name: Stillwater1_Aerial_2023_09_07
Description:
Single Fused Map Cache: false
Extent:
XMin: 421895.1357173487
YMin: 4452447.951460539
XMax: 423142.05581295677
YMax: 4453779.6635082215
Spatial Reference: 26913
(26913)
Initial Extent:
XMin: 421895.1357173487
YMin: 4452447.951460539
XMax: 423142.05581295677
YMax: 4453779.6635082215
Spatial Reference: 26913
(26913)
Full Extent:
XMin: 421895.1357173487
YMin: 4452447.951460539
XMax: 423142.05581295677
YMax: 4453779.6635082215
Spatial Reference: 26913
(26913)
Pixel Size X: 0.014037150687921263
Pixel Size Y: 0.01401610356142995
Band Count: 4
Pixel Type: U8
RasterFunction Infos: {"rasterFunctionInfos": [{
"name": "None",
"description": "",
"help": ""
}]}
Mensuration Capabilities: Basic
Inspection Capabilities:
Has Histograms: true
Has Colormap: false
Has Multi Dimensions : false
Rendering Rule:
Min Scale: 0
Max Scale: 0
Copyright Text:
Service Data Type: esriImageServiceDataTypeGeneric
Min Values: 1, 1, 1, 255
Max Values: 255, 255, 255, 255
Mean Values: 157.62403969779, 158.1431477218, 145.72566229898, 255
Standard Deviation Values: 46.144144178516, 45.63503381289, 50.021355516487, 0
Object ID Field:
Fields:
None
Default Mosaic Method: Center
Allowed Mosaic Methods:
SortField:
SortValue: null
Mosaic Operator: First
Default Compression Quality: 75
Default Resampling Method: Bilinear
Max Record Count: null
Max Image Height: 4100
Max Image Width: 15000
Max Download Image Count: null
Max Mosaic Image Count: null
Allow Raster Function: true
Allow Copy: true
Allow Analysis: true
Allow Compute TiePoints: false
Supports Statistics: false
Supports Advanced Queries: false
Use StandardizedQueries: true
Raster Type Infos:
Name: Raster Dataset
Description: Supports all ArcGIS Raster Datasets
Help:
Has Raster Attribute Table: false
Edit Fields Info: null
Ownership Based AccessControl For Rasters: null
Child Resources:
Info
Histograms
Statistics
Key Properties
Legend
Raster Function Infos
Supported Operations:
Export Image
Identify
Measure
Compute Histograms
Compute Statistics Histograms
Get Samples
Compute Class Statistics
Query Boundary
Compute Pixel Location
Compute Angles
Validate
Project