View In:
ArcGIS JavaScript
ArcGIS Online Map Viewer
ArcGIS Earth
Service Description: Stillwater_Creek1_09_07_2023
Name: Stillwater_Creek1_09_07_2023
Description:
Single Fused Map Cache: false
Extent:
XMin: 421907.97001000005
YMin: 4452463.25658
XMax: 423125.31217000005
YMax: 4453767.34172
Spatial Reference: 32613
(32613)
Initial Extent:
XMin: 421907.97001000005
YMin: 4452463.25658
XMax: 423125.31217000005
YMax: 4453767.34172
Spatial Reference: 32613
(32613)
Full Extent:
XMin: 421907.97001000005
YMin: 4452463.25658
XMax: 423125.31217000005
YMax: 4453767.34172
Spatial Reference: 32613
(32613)
Pixel Size X: 0.013870000000000002
Pixel Size Y: 0.013870000000001036
Band Count: 4
Pixel Type: U8
RasterFunction Infos: {"rasterFunctionInfos": [{
"name": "None",
"description": "",
"help": ""
}]}
Mensuration Capabilities: Basic
Inspection Capabilities:
Has Histograms: true
Has Colormap: false
Has Multi Dimensions : false
Rendering Rule:
Min Scale: 0
Max Scale: 0
Copyright Text:
Service Data Type: esriImageServiceDataTypeGeneric
Min Values: 0, 0, 0, 0
Max Values: 255, 255, 255, 255
Mean Values: 23.559525374695, 23.131695173021, 19.745001436656, 58.825389982168
Standard Deviation Values: 48.354429070556, 47.370710455953, 42.286139494648, 107.42461515067
Object ID Field:
Fields:
None
Default Mosaic Method: Center
Allowed Mosaic Methods:
SortField:
SortValue: null
Mosaic Operator: First
Default Compression Quality: 75
Default Resampling Method: Bilinear
Max Record Count: null
Max Image Height: 4100
Max Image Width: 15000
Max Download Image Count: null
Max Mosaic Image Count: null
Allow Raster Function: true
Allow Copy: true
Allow Analysis: true
Allow Compute TiePoints: false
Supports Statistics: false
Supports Advanced Queries: false
Use StandardizedQueries: true
Raster Type Infos:
Name: Raster Dataset
Description: Supports all ArcGIS Raster Datasets
Help:
Has Raster Attribute Table: false
Edit Fields Info: null
Ownership Based AccessControl For Rasters: null
Child Resources:
Info
Histograms
Statistics
Key Properties
Legend
Raster Function Infos
Supported Operations:
Export Image
Identify
Measure
Compute Histograms
Compute Statistics Histograms
Get Samples
Compute Class Statistics
Query Boundary
Compute Pixel Location
Compute Angles
Validate
Project