View In:
ArcGIS JavaScript
ArcGIS Online Map Viewer
ArcGIS Earth
Service Description: Stillwater_Creek1_11_03_2023
Name: Stillwater_Creek1_11_03_2023
Description:
Single Fused Map Cache: false
Extent:
XMin: 2883291.44015
YMin: 1322897.97031
XMax: 2887319.5819800003
YMax: 1327146.64164
Spatial Reference: 102653
(2231)
Initial Extent:
XMin: 2883291.44015
YMin: 1322897.97031
XMax: 2887319.5819800003
YMax: 1327146.64164
Spatial Reference: 102653
(2231)
Full Extent:
XMin: 2883291.44015
YMin: 1322897.97031
XMax: 2887319.5819800003
YMax: 1327146.64164
Spatial Reference: 102653
(2231)
Pixel Size X: 0.04547000000000107
Pixel Size Y: 0.04547000000000044
Band Count: 4
Pixel Type: U8
RasterFunction Infos: {"rasterFunctionInfos": [{
"name": "None",
"description": "",
"help": ""
}]}
Mensuration Capabilities: Basic
Inspection Capabilities:
Has Histograms: true
Has Colormap: false
Has Multi Dimensions : false
Rendering Rule:
Min Scale: 0
Max Scale: 0
Copyright Text:
Service Data Type: esriImageServiceDataTypeGeneric
Min Values: 0, 0, 0, 0
Max Values: 255, 255, 255, 255
Mean Values: 21.041616617203, 20.481891873152, 18.768030583207, 59.661718216941
Standard Deviation Values: 44.741413464194, 44.614058589384, 42.760279853062, 107.95470126692
Object ID Field:
Fields:
None
Default Mosaic Method: Center
Allowed Mosaic Methods:
SortField:
SortValue: null
Mosaic Operator: First
Default Compression Quality: 75
Default Resampling Method: Bilinear
Max Record Count: null
Max Image Height: 4100
Max Image Width: 15000
Max Download Image Count: null
Max Mosaic Image Count: null
Allow Raster Function: true
Allow Copy: true
Allow Analysis: true
Allow Compute TiePoints: false
Supports Statistics: false
Supports Advanced Queries: false
Use StandardizedQueries: true
Raster Type Infos:
Name: Raster Dataset
Description: Supports all ArcGIS Raster Datasets
Help:
Has Raster Attribute Table: false
Edit Fields Info: null
Ownership Based AccessControl For Rasters: null
Child Resources:
Info
Histograms
Statistics
Key Properties
Legend
Raster Function Infos
Supported Operations:
Export Image
Identify
Measure
Compute Histograms
Compute Statistics Histograms
Get Samples
Compute Class Statistics
Query Boundary
Compute Pixel Location
Compute Angles
Validate
Project