View In:
ArcGIS JavaScript
ArcGIS Online Map Viewer
ArcGIS Earth
Service Description: Stillwater_Creek3_11_03_2023
Name: Stillwater_Creek3_11_03_2023
Description:
Single Fused Map Cache: false
Extent:
XMin: 2879004.2913800003
YMin: 1324897.1344
XMax: 2880212.4603800005
YMax: 1326329.6764
Spatial Reference: 102653
(2231)
Initial Extent:
XMin: 2879004.2913800003
YMin: 1324897.1344
XMax: 2880212.4603800005
YMax: 1326329.6764
Spatial Reference: 102653
(2231)
Full Extent:
XMin: 2879004.2913800003
YMin: 1324897.1344
XMax: 2880212.4603800005
YMax: 1326329.6764
Spatial Reference: 102653
(2231)
Pixel Size X: 0.043500000000008185
Pixel Size Y: 0.043499999999996944
Band Count: 4
Pixel Type: U8
RasterFunction Infos: {"rasterFunctionInfos": [{
"name": "None",
"description": "",
"help": ""
}]}
Mensuration Capabilities: Basic
Inspection Capabilities:
Has Histograms: true
Has Colormap: false
Has Multi Dimensions : false
Rendering Rule:
Min Scale: 0
Max Scale: 0
Copyright Text:
Service Data Type: esriImageServiceDataTypeGeneric
Min Values: 0, 0, 0, 0
Max Values: 255, 255, 255, 255
Mean Values: 56.243830782024, 53.622069837459, 48.003261625765, 142.70622338653
Standard Deviation Values: 58.711342509805, 56.594871686422, 52.033736708487, 126.58997111872
Object ID Field:
Fields:
None
Default Mosaic Method: Center
Allowed Mosaic Methods:
SortField:
SortValue: null
Mosaic Operator: First
Default Compression Quality: 75
Default Resampling Method: Bilinear
Max Record Count: null
Max Image Height: 4100
Max Image Width: 15000
Max Download Image Count: null
Max Mosaic Image Count: null
Allow Raster Function: true
Allow Copy: true
Allow Analysis: true
Allow Compute TiePoints: false
Supports Statistics: false
Supports Advanced Queries: false
Use StandardizedQueries: true
Raster Type Infos:
Name: Raster Dataset
Description: Supports all ArcGIS Raster Datasets
Help:
Has Raster Attribute Table: false
Edit Fields Info: null
Ownership Based AccessControl For Rasters: null
Child Resources:
Info
Histograms
Statistics
Key Properties
Legend
Raster Function Infos
Supported Operations:
Export Image
Identify
Measure
Compute Histograms
Compute Statistics Histograms
Get Samples
Compute Class Statistics
Query Boundary
Compute Pixel Location
Compute Angles
Validate
Project