View In:
ArcGIS JavaScript
ArcGIS Online Map Viewer
ArcGIS Earth
Service Description: Stillwater_Creek4_11_03_2023
Name: Stillwater_Creek4_11_03_2023
Description:
Single Fused Map Cache: false
Extent:
XMin: 2880409.419
YMin: 1324394.34358
XMax: 2881439.6683500004
YMax: 1326242.25328
Spatial Reference: 102653
(2231)
Initial Extent:
XMin: 2880409.419
YMin: 1324394.34358
XMax: 2881439.6683500004
YMax: 1326242.25328
Spatial Reference: 102653
(2231)
Full Extent:
XMin: 2880409.419
YMin: 1324394.34358
XMax: 2881439.6683500004
YMax: 1326242.25328
Spatial Reference: 102653
(2231)
Pixel Size X: 0.04485000000000752
Pixel Size Y: 0.04484999999999903
Band Count: 4
Pixel Type: U8
RasterFunction Infos: {"rasterFunctionInfos": [{
"name": "None",
"description": "",
"help": ""
}]}
Mensuration Capabilities: Basic
Inspection Capabilities:
Has Histograms: true
Has Colormap: false
Has Multi Dimensions : false
Rendering Rule:
Min Scale: 0
Max Scale: 0
Copyright Text:
Service Data Type: esriImageServiceDataTypeGeneric
Min Values: 0, 0, 0, 0
Max Values: 255, 255, 255, 255
Mean Values: 63.649314502174, 60.168361736652, 53.012889110101, 160.49336251954
Standard Deviation Values: 60.01095294407, 57.77945728806, 53.266153083106, 123.15716806456
Object ID Field:
Fields:
None
Default Mosaic Method: Center
Allowed Mosaic Methods:
SortField:
SortValue: null
Mosaic Operator: First
Default Compression Quality: 75
Default Resampling Method: Bilinear
Max Record Count: null
Max Image Height: 4100
Max Image Width: 15000
Max Download Image Count: null
Max Mosaic Image Count: null
Allow Raster Function: true
Allow Copy: true
Allow Analysis: true
Allow Compute TiePoints: false
Supports Statistics: false
Supports Advanced Queries: false
Use StandardizedQueries: true
Raster Type Infos:
Name: Raster Dataset
Description: Supports all ArcGIS Raster Datasets
Help:
Has Raster Attribute Table: false
Edit Fields Info: null
Ownership Based AccessControl For Rasters: null
Child Resources:
Info
Histograms
Statistics
Key Properties
Legend
Raster Function Infos
Supported Operations:
Export Image
Identify
Measure
Compute Histograms
Compute Statistics Histograms
Get Samples
Compute Class Statistics
Query Boundary
Compute Pixel Location
Compute Angles
Validate
Project